BEGIN:VCALENDAR
VERSION:2.0
PRODID:-//wp-events-plugin.com//7.2.3.1//EN
TZID:America/Chicago
X-WR-TIMEZONE:America/Chicago
BEGIN:VEVENT
UID:11301@parkvillemo.gov
DTSTART;VALUE=DATE:20250704
DTEND;VALUE=DATE:20250705
DTSTAMP:20241122T024301Z
URL:https://parkvillemo.gov/events/city-offices-closed-independence-day/
SUMMARY:City Offices Closed - Independence Day -  - 4 Jul 25 00:00
DESCRIPTION:
CATEGORIES:Holiday - City Offices Closed
END:VEVENT
END:VCALENDAR