BEGIN:VCALENDAR
VERSION:2.0
PRODID:-//wp-events-plugin.com//7.2.3.1//EN
TZID:America/Chicago
X-WR-TIMEZONE:America/Chicago
BEGIN:VEVENT
UID:11251@parkvillemo.gov
DTSTART:20250113T163000Z
DTEND:20250113T173000Z
DTSTAMP:20241122T023217Z
URL:https://parkvillemo.gov/events/finance-committee-11-2025-01-13/
SUMMARY:Finance Committee - Parkville City Hall - 13 Jan 25 16:30
DESCRIPTION:Meeting agendas\, packets and minutes are available at https://
 parkvillemo.gov/boards-commissions/finance-committee/.
CATEGORIES:City of Parkville, MO Events
LOCATION:Parkville City Hall\, 8880 Clark Avenue\, Parkville\, MO\, 64152\,
  United States
GEO:39.2068876;-94.68440939999999
X-APPLE-STRUCTURED-LOCATION;VALUE=URI;X-ADDRESS=8880 Clark Avenue\, Parkvil
 le\, MO\, 64152\, United States;X-APPLE-RADIUS=100;X-TITLE=Parkville City 
 Hall:geo:39.2068876,-94.68440939999999
END:VEVENT
END:VCALENDAR