BEGIN:VCALENDAR
VERSION:2.0
PRODID:-//wp-events-plugin.com//7.2.3.1//EN
TZID:America/Chicago
X-WR-TIMEZONE:America/Chicago
BEGIN:VEVENT
UID:11085@parkvillemo.gov
DTSTART:20241001T180000Z
DTEND:20241001T190000Z
DTSTAMP:20240916T213858Z
URL:https://parkvillemo.gov/events/symphony-at-park-october-1-2024/
SUMMARY:Symphony in the Park - 6 p.m. -  - 1 Oct 24 18:00
DESCRIPTION:Join the Kansas City Symphony for a free concert at English Lan
 ding Park. Bring your lawn chairs and blanket and enjoy music from the Mob
 ile Music Box. More details coming soon!\n&nbsp\;\nHosted by the Kansas Ci
 ty Symphony and Parkville Parks and Recreation
CATEGORIES:English Landing Park Events
END:VEVENT
END:VCALENDAR